BEGIN:VCALENDAR
VERSION:2.0
CALSCALE:GREGORIAN
PRODID:adamgibbons/ics
METHOD:PUBLISH
X-PUBLISHED-TTL:PT1H
BEGIN:VEVENT
UID:041f1dac-8921-40a9-becd-ce856bdf2508
SUMMARY:Grote Maakplaatsdag & opening Maakplaats Slotermeer
DTSTAMP:20260420T014814Z
DTSTART:20180325T090000Z
DTEND:20180325T140000Z
URL:https://waag.org/nl/event/grote-maakplaatsdag-opening-maakplaats-sloter
	meer
LOCATION:OBA Slotermeer\, Amsterdam
CATEGORIES:maker education
CREATED:20180307T142900Z
LAST-MODIFIED:20190405T185800Z
END:VEVENT
END:VCALENDAR
