BEGIN:VCALENDAR
VERSION:2.0
CALSCALE:GREGORIAN
PRODID:adamgibbons/ics
METHOD:PUBLISH
X-PUBLISHED-TTL:PT1H
BEGIN:VEVENT
UID:04de3747-b21d-4065-b972-632c7f42716c
SUMMARY:Maker education clubavond #1 
DTSTAMP:20260420T014352Z
DTSTART:20181018T170000Z
DTEND:20181018T190000Z
URL:https://waag.org/nl/event/maker-education-clubavond-1
LOCATION:Waag\, Nieuwmarkt 4\, 1012 CR Amsterdam
CATEGORIES:maker movement,maker education
CREATED:20180927T074200Z
LAST-MODIFIED:20260113T093700Z
END:VEVENT
END:VCALENDAR
