BEGIN:VCALENDAR
VERSION:2.0
CALSCALE:GREGORIAN
PRODID:adamgibbons/ics
METHOD:PUBLISH
X-PUBLISHED-TTL:PT1H
BEGIN:VEVENT
UID:074bdb7b-2167-4708-8a58-d27b02ed1a14
SUMMARY:Open Hardware Future Talk: consumer electronics
DTSTAMP:20260421T144339Z
DTSTART:20210128T140000Z
DTEND:20210128T144500Z
URL:https://waag.org/nl/event/open-hardware-future-talk-consumer-electronic
	s
LOCATION:Online 
CATEGORIES:open-source,smart citizens
CREATED:20210106T160700Z
LAST-MODIFIED:20210112T121900Z
END:VEVENT
END:VCALENDAR
