BEGIN:VCALENDAR
VERSION:2.0
CALSCALE:GREGORIAN
PRODID:adamgibbons/ics
METHOD:PUBLISH
X-PUBLISHED-TTL:PT1H
BEGIN:VEVENT
UID:14a8d2eb-18ff-491e-8709-5273011c6f69
SUMMARY:DIY Human Enhancement Clinic #2
DTSTAMP:20260421T084428Z
DTSTART:20160706T080000Z
DTEND:20160706T143000Z
URL:https://waag.org/en/event/diy-human-enhancement-clinic-2
LOCATION:Border Sessions\, The Hague
CATEGORIES:diy bio
CREATED:20180206T200400Z
LAST-MODIFIED:20180323T185500Z
END:VEVENT
END:VCALENDAR
