BEGIN:VCALENDAR
VERSION:2.0
CALSCALE:GREGORIAN
PRODID:adamgibbons/ics
METHOD:PUBLISH
X-PUBLISHED-TTL:PT1H
BEGIN:VEVENT
UID:24ed3aa5-6e0b-4bc5-b2d5-b372c4869ab1
SUMMARY:Innovation for Health Design Expo
DTSTAMP:20260420T114912Z
DTSTART:20150204T230000Z
DTEND:20150204T230000Z
URL:https://waag.org/en/event/innovation-health-design-expo
LOCATION:Amsterdam RAI\, Elicium\, Europaplein 22\, 1078 GZ Amsterdam
CATEGORIES:healthcare
CREATED:20180204T183100Z
LAST-MODIFIED:20180204T183100Z
END:VEVENT
END:VCALENDAR
