BEGIN:VCALENDAR
VERSION:2.0
CALSCALE:GREGORIAN
PRODID:adamgibbons/ics
METHOD:PUBLISH
X-PUBLISHED-TTL:PT1H
BEGIN:VEVENT
UID:25e859e5-5cd3-4122-82d9-8c8df2805159
SUMMARY:MakeHealth: Prototyping II
DTSTAMP:20260420T114804Z
DTSTART:20180922T080000Z
DTEND:20180922T120000Z
URL:https://waag.org/en/event/makehealth-prototyping-ii
LOCATION:Contact Amsterdam\, Contactweg 47\, 1014 AN Amsterdam
CATEGORIES:ehealth,healthcare,healthy ageing,makehealth
CREATED:20180704T095800Z
LAST-MODIFIED:20190428T165200Z
END:VEVENT
END:VCALENDAR
