BEGIN:VCALENDAR
VERSION:2.0
CALSCALE:GREGORIAN
PRODID:adamgibbons/ics
METHOD:PUBLISH
X-PUBLISHED-TTL:PT1H
BEGIN:VEVENT
UID:32d44402-a834-49ae-b83b-a6888d40cfd9
SUMMARY:Exhibition Hospitable collection
DTSTAMP:20260420T102709Z
DTSTART:20170519T060000Z
DTEND:20170521T140000Z
URL:https://waag.org/en/event/exhibition-hospitable-collection
LOCATION:Theatrum Anatomicum\, Waag\, Nieuwmarkt 4\, 1012 CR Amsterdam
CATEGORIES:healthcare
CREATED:20170317T082700Z
LAST-MODIFIED:20190406T155900Z
END:VEVENT
END:VCALENDAR
