BEGIN:VCALENDAR
VERSION:2.0
CALSCALE:GREGORIAN
PRODID:adamgibbons/ics
METHOD:PUBLISH
X-PUBLISHED-TTL:PT1H
BEGIN:VEVENT
UID:32e28936-c5fe-4aeb-906e-a31aa0c93ca5
SUMMARY:Workshops Maritiem Maaklab
DTSTAMP:20260421T101325Z
DTSTART:20210712T080000Z
DTEND:20210715T100000Z
URL:https://waag.org/nl/event/workshops-maritiem-maaklab
LOCATION:Maakplaatsen Slotermeer\, Mercatorplein en Waterlandplein
CATEGORIES:maker education,learning by making
CREATED:20210527T115100Z
LAST-MODIFIED:20210713T131000Z
END:VEVENT
END:VCALENDAR
