BEGIN:VCALENDAR
VERSION:2.0
CALSCALE:GREGORIAN
PRODID:adamgibbons/ics
METHOD:PUBLISH
X-PUBLISHED-TTL:PT1H
BEGIN:VEVENT
UID:367bfd7a-3901-473b-90d3-534bb7f621c2
SUMMARY:Workshop: De baas op internet #1
DTSTAMP:20260422T141636Z
DTSTART:20171213T130000Z
DTEND:20171213T160000Z
URL:https://waag.org/en/event/workshop-de-baas-op-internet-1
LOCATION:Huis De Pinto\, Sint Antoniesbreestraat 69\, 1011 HB Amsterdam
CATEGORIES:privacy
CREATED:20171020T113600Z
LAST-MODIFIED:20171208T092400Z
END:VEVENT
END:VCALENDAR
