BEGIN:VCALENDAR
VERSION:2.0
CALSCALE:GREGORIAN
PRODID:adamgibbons/ics
METHOD:PUBLISH
X-PUBLISHED-TTL:PT1H
BEGIN:VEVENT
UID:3694530a-2c9a-4375-b89c-73beb838c0b8
SUMMARY:Makers van Zuidoost meetup
DTSTAMP:20260420T014430Z
DTSTART:20180508T163000Z
DTEND:20180508T190000Z
URL:https://waag.org/nl/event/makers-van-zuidoost-meetup
LOCATION:Maakplaats 021 Reigersbos\, Rossumplein 1\,  1106 AX Amsterdam
CATEGORIES:maker movement,maker education,fablab amsterdam
CREATED:20180426T114000Z
LAST-MODIFIED:20190407T183000Z
END:VEVENT
END:VCALENDAR
