BEGIN:VCALENDAR
VERSION:2.0
CALSCALE:GREGORIAN
PRODID:adamgibbons/ics
METHOD:PUBLISH
X-PUBLISHED-TTL:PT1H
BEGIN:VEVENT
UID:38ff3c0f-f01d-479d-af57-15e5b78d965b
SUMMARY:CryptoKids #2
DTSTAMP:20260422T154144Z
DTSTART:20140319T130000Z
DTEND:20140319T150000Z
URL:https://waag.org/en/event/cryptokids-2
LOCATION:Waag\, Nieuwmarkt 4\, 1012 CR Amsterdam
CATEGORIES:encryption,workshop
CREATED:20140131T165100Z
LAST-MODIFIED:20140313T210000Z
END:VEVENT
END:VCALENDAR
