BEGIN:VCALENDAR
VERSION:2.0
CALSCALE:GREGORIAN
PRODID:adamgibbons/ics
METHOD:PUBLISH
X-PUBLISHED-TTL:PT1H
BEGIN:VEVENT
UID:3a75eadb-8bee-4df1-9f1b-b40e5a86ef4d
SUMMARY:De Energietransitie: what can citizens do?
DTSTAMP:20260421T103240Z
DTSTART:20200611T173000Z
DTEND:20200611T190000Z
URL:https://waag.org/en/event/de-energietransitie-what-can-citizens-do
LOCATION:Online
CATEGORIES:circular economy,citizen science,smart citizens,commons
CREATED:20200506T091900Z
LAST-MODIFIED:20220621T201000Z
END:VEVENT
END:VCALENDAR
