BEGIN:VCALENDAR
VERSION:2.0
CALSCALE:GREGORIAN
PRODID:adamgibbons/ics
METHOD:PUBLISH
X-PUBLISHED-TTL:PT1H
BEGIN:VEVENT
UID:3bd5b885-9f47-47af-bed1-a2ad8b618ad8
SUMMARY:Building a 'Commons for Data' lab
DTSTAMP:20260421T030151Z
DTSTART:20180616T080000Z
DTEND:20180616T150000Z
URL:https://waag.org/en/event/building-commons-data-lab
LOCATION:The Grey Space in The Middle\, Paviljoensgracht 20\, 2512 AR Den H
	aag
CATEGORIES:data,open data,commons
CREATED:20180608T081500Z
LAST-MODIFIED:20190405T144700Z
END:VEVENT
END:VCALENDAR
