BEGIN:VCALENDAR
VERSION:2.0
CALSCALE:GREGORIAN
PRODID:adamgibbons/ics
METHOD:PUBLISH
X-PUBLISHED-TTL:PT1H
BEGIN:VEVENT
UID:4078b393-1179-4eb2-933b-1b444f08db75
SUMMARY:Open Innovation 2.0 Conference 2016
DTSTAMP:20260421T013551Z
DTSTART:20160524T053000Z
DTEND:20160524T134500Z
URL:https://waag.org/en/event/open-innovation-20-conference-2016
LOCATION:Koninklijk Instituut voor de Tropen\, Amsterdam
CATEGORIES:open-source,learning by making
CREATED:20180207T132600Z
LAST-MODIFIED:20180207T132600Z
END:VEVENT
END:VCALENDAR
