BEGIN:VCALENDAR
VERSION:2.0
CALSCALE:GREGORIAN
PRODID:adamgibbons/ics
METHOD:PUBLISH
X-PUBLISHED-TTL:PT1H
BEGIN:VEVENT
UID:4db8955b-5149-455e-91ba-1bfaa3a76018
SUMMARY:Maker education clubavond
DTSTAMP:20260420T013905Z
DTSTART:20190411T164500Z
DTEND:20190411T190000Z
URL:https://waag.org/nl/event/maker-education-clubavond
LOCATION:Waag\, Nieuwmarkt 4\, 1012 CR Amsterdam
CATEGORIES:maker education,learning by making,21st century skills
CREATED:20190218T131500Z
LAST-MODIFIED:20231120T111500Z
END:VEVENT
END:VCALENDAR
