BEGIN:VCALENDAR
VERSION:2.0
CALSCALE:GREGORIAN
PRODID:adamgibbons/ics
METHOD:PUBLISH
X-PUBLISHED-TTL:PT1H
BEGIN:VEVENT
UID:4e52aca0-b467-4ca7-86d6-bd79320cae5e
SUMMARY:From 5G to 6G: What's in it for us?
DTSTAMP:20260423T022250Z
DTSTART:20250927T130000Z
DTEND:20250927T160000Z
URL:https://waag.org/en/event/5g-6g-whats-it-us
LOCATION:Waag FuturelabNieuwmarkt 41012CR AmsterdamAccessibility informatio
	n
CATEGORIES:
CREATED:20250923T151200Z
LAST-MODIFIED:20250923T152400Z
END:VEVENT
END:VCALENDAR
