BEGIN:VCALENDAR
VERSION:2.0
CALSCALE:GREGORIAN
PRODID:adamgibbons/ics
METHOD:PUBLISH
X-PUBLISHED-TTL:PT1H
BEGIN:VEVENT
UID:4f17dcd7-3afb-4ca0-8127-ba7e327eb07e
SUMMARY:Makers van Nieuw-West meetup
DTSTAMP:20260420T014030Z
DTSTART:20180530T163000Z
DTEND:20180530T180000Z
URL:https://waag.org/nl/event/makers-van-nieuw-west-meetup
LOCATION:Maakplaats 021 Slotermeer\, Slotermeerlaan 103E\, 1064 JN Amsterda
	m
CATEGORIES:maker education,maker movement,fabschool
CREATED:20180508T094700Z
LAST-MODIFIED:20190407T183100Z
END:VEVENT
END:VCALENDAR
