BEGIN:VCALENDAR
VERSION:2.0
CALSCALE:GREGORIAN
PRODID:adamgibbons/ics
METHOD:PUBLISH
X-PUBLISHED-TTL:PT1H
BEGIN:VEVENT
UID:6106e310-2cf0-4ef7-bfbf-b5c2ecf21568
SUMMARY:AUIW: Crossover estafette
DTSTAMP:20260420T224344Z
DTSTART:20130919T140000Z
DTEND:20130919T180000Z
URL:https://waag.org/en/event/auiw-crossover-estafette
LOCATION:Pakhuis de Zwijger\, Piet Heinkade 181\, 1019 HC Amsterdam
CATEGORIES:social innovation
CREATED:20130828T133600Z
LAST-MODIFIED:20190405T151400Z
END:VEVENT
END:VCALENDAR
