BEGIN:VCALENDAR
VERSION:2.0
CALSCALE:GREGORIAN
PRODID:adamgibbons/ics
METHOD:PUBLISH
X-PUBLISHED-TTL:PT1H
BEGIN:VEVENT
UID:621f83aa-4b78-4e84-b31a-7608c0e7abb1
SUMMARY:Het Grote Maakplaats weekend 
DTSTAMP:20260420T001810Z
DTSTART:20190209T120000Z
DTEND:20190210T150000Z
URL:https://waag.org/nl/event/het-grote-maakplaats-weekend
LOCATION:OBA\, Oosterdokskade 143\, Amsterdam 
CATEGORIES:learning by making,maker education
CREATED:20190204T152900Z
LAST-MODIFIED:20190211T075200Z
END:VEVENT
END:VCALENDAR
