BEGIN:VCALENDAR
VERSION:2.0
CALSCALE:GREGORIAN
PRODID:adamgibbons/ics
METHOD:PUBLISH
X-PUBLISHED-TTL:PT1H
BEGIN:VEVENT
UID:659c9150-610d-405e-96f4-5c4bcc73163b
SUMMARY:CryptoKids #1
DTSTAMP:20260422T141708Z
DTSTART:20140129T130000Z
DTEND:20140129T160000Z
URL:https://waag.org/en/event/cryptokids-1
LOCATION:Waag\, Nieuwmarkt 4\, Amsterdam
CATEGORIES:encryption,digital rights,workshop
CREATED:20131208T172500Z
LAST-MODIFIED:20150818T090600Z
END:VEVENT
END:VCALENDAR
