BEGIN:VCALENDAR
VERSION:2.0
CALSCALE:GREGORIAN
PRODID:adamgibbons/ics
METHOD:PUBLISH
X-PUBLISHED-TTL:PT1H
BEGIN:VEVENT
UID:666f7d1a-52c2-4654-9571-f3a57b591f2a
SUMMARY:DSI Fair 2018
DTSTAMP:20260421T030601Z
DTSTART:20180606T063000Z
DTEND:20180606T160000Z
URL:https://waag.org/en/event/dsi-fair-2018
LOCATION:Campidoglio\, Rome\, Italy
CATEGORIES:digital social innovation
CREATED:20180528T084000Z
LAST-MODIFIED:20180607T080200Z
END:VEVENT
END:VCALENDAR
