BEGIN:VCALENDAR
VERSION:2.0
CALSCALE:GREGORIAN
PRODID:adamgibbons/ics
METHOD:PUBLISH
X-PUBLISHED-TTL:PT1H
BEGIN:VEVENT
UID:71ab5cd9-2c81-4b1e-9416-50f72352c6f9
SUMMARY:Pre-launch Chamber of Commons 
DTSTAMP:20260421T050029Z
DTSTART:20181011T140000Z
DTEND:20181011T193000Z
URL:https://waag.org/en/event/pre-launch-chamber-commons
LOCATION:Waag\, Nieuwmarkt 4\, 1012 CR Amsterdam
CATEGORIES:commons
CREATED:20180926T125100Z
LAST-MODIFIED:20200225T150700Z
END:VEVENT
END:VCALENDAR
