BEGIN:VCALENDAR
VERSION:2.0
CALSCALE:GREGORIAN
PRODID:adamgibbons/ics
METHOD:PUBLISH
X-PUBLISHED-TTL:PT1H
BEGIN:VEVENT
UID:7969cb3a-09f4-4fa7-9c0a-284902bfd51d
SUMMARY:Designing a Community of Care
DTSTAMP:20260420T101740Z
DTSTART:20180517T113000Z
DTEND:20180517T160000Z
URL:https://waag.org/nl/event/designing-community-care
LOCATION:Villa Jongerius\, Utrecht 
CATEGORIES:healthcare
CREATED:20180328T131400Z
LAST-MODIFIED:20190331T112800Z
END:VEVENT
END:VCALENDAR
