BEGIN:VCALENDAR
VERSION:2.0
CALSCALE:GREGORIAN
PRODID:adamgibbons/ics
METHOD:PUBLISH
X-PUBLISHED-TTL:PT1H
BEGIN:VEVENT
UID:7bcd4daa-1797-43b2-be2b-590197b6ad72
SUMMARY:FabLearn Dialogues NL-DK 2019
DTSTAMP:20260420T061328Z
DTSTART:20191030T080000Z
DTEND:20191030T150000Z
URL:https://waag.org/nl/event/fablearn-dialogues-nl-dk-2019
LOCATION:HAN Campus\, Ruitenberglaan 27\, Arnhem
CATEGORIES:maker education,co-creation,learning by making,fabschool,maker m
	ovement
CREATED:20190529T073700Z
LAST-MODIFIED:20191025T091100Z
END:VEVENT
END:VCALENDAR
