BEGIN:VCALENDAR
VERSION:2.0
CALSCALE:GREGORIAN
PRODID:adamgibbons/ics
METHOD:PUBLISH
X-PUBLISHED-TTL:PT1H
BEGIN:VEVENT
UID:863fdf87-dcb1-4a6f-93f1-bcabf85d49f6
SUMMARY:MakeHealth Live @ DDW2018
DTSTAMP:20260421T093731Z
DTSTART:20181024T090000Z
DTEND:20181026T160000Z
URL:https://waag.org/en/event/makehealth-live-ddw2018
LOCATION:Innovation Powerhouse\, Zwaanstraat 31A\, 5651 CA Eindhoven
CATEGORIES:healthcare,diy,makehealth
CREATED:20180905T144600Z
LAST-MODIFIED:20181026T143300Z
END:VEVENT
END:VCALENDAR
