BEGIN:VCALENDAR
VERSION:2.0
CALSCALE:GREGORIAN
PRODID:adamgibbons/ics
METHOD:PUBLISH
X-PUBLISHED-TTL:PT1H
BEGIN:VEVENT
UID:89752ce4-c1c2-486c-a1d2-23e55d7732e7
SUMMARY:Makers van Noord meetup
DTSTAMP:20260420T014114Z
DTSTART:20180704T163000Z
DTEND:20180704T180000Z
URL:https://waag.org/nl/event/makers-van-noord-meetup
LOCATION:Maakplaats OBA Waterlandplein\, Amsterdam
CATEGORIES:maker education,maker movement
CREATED:20180508T103800Z
LAST-MODIFIED:20190407T183100Z
END:VEVENT
END:VCALENDAR
