BEGIN:VCALENDAR
VERSION:2.0
CALSCALE:GREGORIAN
PRODID:adamgibbons/ics
METHOD:PUBLISH
X-PUBLISHED-TTL:PT1H
BEGIN:VEVENT
UID:8e3b9749-d78c-44de-a87e-29499189c02a
SUMMARY:Maakplaats 021 course
DTSTAMP:20260420T014106Z
DTSTART:20170911T070000Z
DTEND:20170912T140000Z
URL:https://waag.org/en/event/maakplaats-021-course
LOCATION:Maakplaats Waterlandplein\, Amsterdam
CATEGORIES:maker education
CREATED:20170817T143800Z
LAST-MODIFIED:20170817T143800Z
END:VEVENT
END:VCALENDAR
