BEGIN:VCALENDAR
VERSION:2.0
CALSCALE:GREGORIAN
PRODID:adamgibbons/ics
METHOD:PUBLISH
X-PUBLISHED-TTL:PT1H
BEGIN:VEVENT
UID:921a3398-8c1c-4475-a39a-06a5efddf196
SUMMARY:Maker education clubavond #10: DIY gezichtsmaskers
DTSTAMP:20260420T015908Z
DTSTART:20200917T164500Z
DTEND:20200917T190000Z
URL:https://waag.org/nl/event/maker-education-clubavond-10-diy-gezichtsmask
	ers
LOCATION:OBA Oosterdok\, Prinsen/keizerszaal (6e etage)
CATEGORIES:maker education
CREATED:20200727T161700Z
LAST-MODIFIED:20231120T131400Z
END:VEVENT
END:VCALENDAR
