BEGIN:VCALENDAR
VERSION:2.0
CALSCALE:GREGORIAN
PRODID:adamgibbons/ics
METHOD:PUBLISH
X-PUBLISHED-TTL:PT1H
BEGIN:VEVENT
UID:95014981-71d1-4332-8df2-6cec09f17f26
SUMMARY:Crypto Design Event & Awards
DTSTAMP:20260422T160827Z
DTSTART:20161125T100000Z
DTEND:20161125T150000Z
URL:https://waag.org/en/event/crypto-design-event-awards
LOCATION:Paradiso\, Weteringschans 6-8\, Amsterdam
CATEGORIES:encryption,hackers & designers
CREATED:20161114T133900Z
LAST-MODIFIED:20161114T133900Z
END:VEVENT
END:VCALENDAR
