BEGIN:VCALENDAR
VERSION:2.0
CALSCALE:GREGORIAN
PRODID:adamgibbons/ics
METHOD:PUBLISH
X-PUBLISHED-TTL:PT1H
BEGIN:VEVENT
UID:95130fbd-3bbf-4105-85b2-d43e5c302d67
SUMMARY:Workshop: De baas op internet #2
DTSTAMP:20260422T141454Z
DTSTART:20180110T130000Z
DTEND:20180110T160000Z
URL:https://waag.org/en/event/workshop-de-baas-op-internet-2
LOCATION:Waag\, Nieuwmarkt 4\, 1012 CR Amsterdam
CATEGORIES:privacy
CREATED:20171020T114500Z
LAST-MODIFIED:20180311T203500Z
END:VEVENT
END:VCALENDAR
