BEGIN:VCALENDAR
VERSION:2.0
CALSCALE:GREGORIAN
PRODID:adamgibbons/ics
METHOD:PUBLISH
X-PUBLISHED-TTL:PT1H
BEGIN:VEVENT
UID:9837ba08-6e17-45ac-851d-f002005e7415
SUMMARY:De financiële data-coöperatie
DTSTAMP:20260421T050058Z
DTSTART:20200115T190000Z
DTEND:20200115T210000Z
URL:https://waag.org/nl/event/de-financiele-data-cooperatie
LOCATION:Pakhuis de Zwijger\, Piet Heinkade 179\, 1019 HC Amsterdam
CATEGORIES:commons,data
CREATED:20191218T135800Z
LAST-MODIFIED:20191218T152800Z
END:VEVENT
END:VCALENDAR
