BEGIN:VCALENDAR
VERSION:2.0
CALSCALE:GREGORIAN
PRODID:adamgibbons/ics
METHOD:PUBLISH
X-PUBLISHED-TTL:PT1H
BEGIN:VEVENT
UID:a0102f16-7982-4d65-8398-4081c77111e8
SUMMARY:Maakschap Amsterdam: Samen circulair
DTSTAMP:20260420T084427Z
DTSTART:20250417T140000Z
DTEND:20250417T170000Z
URL:https://waag.org/en/event/maakschap-amsterdam-samen-circulair
LOCATION:Papaverweg 36c
CATEGORIES:
CREATED:20250408T082600Z
LAST-MODIFIED:20250409T114500Z
END:VEVENT
END:VCALENDAR
