BEGIN:VCALENDAR
VERSION:2.0
CALSCALE:GREGORIAN
PRODID:adamgibbons/ics
METHOD:PUBLISH
X-PUBLISHED-TTL:PT1H
BEGIN:VEVENT
UID:a1605356-cc1b-4b7f-827a-ddf3788b7cda
SUMMARY:Ontdek het onderwijsaanbod van Maakplaats 021
DTSTAMP:20260420T015028Z
DTSTART:20190418T133000Z
DTEND:20190418T163000Z
URL:https://waag.org/nl/event/ontdek-het-onderwijsaanbod-van-maakplaats-021
LOCATION:OBA Oosterdok\, Oosterdokskade 143\, 1011 DL Amsterdam
CATEGORIES:fabschool,maker education
CREATED:20190329T123700Z
LAST-MODIFIED:20190510T201600Z
END:VEVENT
END:VCALENDAR
