BEGIN:VCALENDAR
VERSION:2.0
CALSCALE:GREGORIAN
PRODID:adamgibbons/ics
METHOD:PUBLISH
X-PUBLISHED-TTL:PT1H
BEGIN:VEVENT
UID:a29a51c5-2a54-4783-8303-336c037fe92e
SUMMARY:Maker education clubavond #2
DTSTAMP:20260420T014451Z
DTSTART:20190117T174500Z
DTEND:20190117T200000Z
URL:https://waag.org/nl/event/maker-education-clubavond-2
LOCATION:Waag\, Nieuwmarkt 4\, 1012 CR Amsterdam
CATEGORIES:maker education
CREATED:20181219T103700Z
LAST-MODIFIED:20260113T093800Z
END:VEVENT
END:VCALENDAR
