BEGIN:VCALENDAR
VERSION:2.0
CALSCALE:GREGORIAN
PRODID:adamgibbons/ics
METHOD:PUBLISH
X-PUBLISHED-TTL:PT1H
BEGIN:VEVENT
UID:a3d325f0-2429-46f6-80b6-64af13f24c1e
SUMMARY:Final Exhibition: Robotics in Arts
DTSTAMP:20260421T230024Z
DTSTART:20240418T100000Z
DTEND:20240419T160000Z
URL:https://waag.org/en/event/final-exhibition-robotics-arts
LOCATION:Waag FuturelabNieuwmarkt 41012CR AmsterdamAccessibility informatio
	n
CATEGORIES:
CREATED:20240313T105200Z
LAST-MODIFIED:20240328T105500Z
END:VEVENT
END:VCALENDAR
