BEGIN:VCALENDAR
VERSION:2.0
CALSCALE:GREGORIAN
PRODID:adamgibbons/ics
METHOD:PUBLISH
X-PUBLISHED-TTL:PT1H
BEGIN:VEVENT
UID:a98927c3-4040-4453-8eb5-957c4fabc754
SUMMARY:The Social Tech Tour #4: Fairfood
DTSTAMP:20260421T013726Z
DTSTART:20190327T143000Z
DTEND:20190327T170000Z
URL:https://waag.org/en/event/social-tech-tour-4-fairfood
LOCATION:Mauritskade 64\, 1092 AD Amsterdam
CATEGORIES:digital social innovation,circular economy,sustainability,common
	s
CREATED:20190206T091600Z
LAST-MODIFIED:20190407T113100Z
END:VEVENT
END:VCALENDAR
