BEGIN:VCALENDAR
VERSION:2.0
CALSCALE:GREGORIAN
PRODID:adamgibbons/ics
METHOD:PUBLISH
X-PUBLISHED-TTL:PT1H
BEGIN:VEVENT
UID:a9cad7e1-6573-47c8-87e7-7c138dbe77be
SUMMARY:Care and entrepreneurship: the future?
DTSTAMP:20260420T180658Z
DTSTART:20130418T060000Z
DTEND:20130419T150000Z
URL:https://waag.org/en/event/care-and-entrepreneurship-future
LOCATION:Evoluon\, Noord Brabantlaan 1a\,  5652 LA Eindhoven
CATEGORIES:healthcare,healthy ageing
CREATED:20130115T105900Z
LAST-MODIFIED:20180718T133100Z
END:VEVENT
END:VCALENDAR
