BEGIN:VCALENDAR
VERSION:2.0
CALSCALE:GREGORIAN
PRODID:adamgibbons/ics
METHOD:PUBLISH
X-PUBLISHED-TTL:PT1H
BEGIN:VEVENT
UID:ade6416c-c9ff-4438-a7a6-e5696685dac8
SUMMARY:Opening Maakplaats 021 Waterlandplein 
DTSTAMP:20260420T014106Z
DTSTART:20170203T143000Z
DTEND:20170203T170000Z
URL:https://waag.org/en/event/opening-maakplaats-021-waterlandplein
LOCATION:Waterlandplein 302\, 1024 NB Amsterdam
CATEGORIES:maker education
CREATED:20170120T154600Z
LAST-MODIFIED:20190406T124300Z
END:VEVENT
END:VCALENDAR
