BEGIN:VCALENDAR
VERSION:2.0
CALSCALE:GREGORIAN
PRODID:adamgibbons/ics
METHOD:PUBLISH
X-PUBLISHED-TTL:PT1H
BEGIN:VEVENT
UID:b2f178eb-f006-4f12-9f30-06fd26dc0082
SUMMARY:Maker education clubavond
DTSTAMP:20260420T014230Z
DTSTART:20191017T164500Z
DTEND:20191017T190000Z
URL:https://waag.org/nl/event/maker-education-clubavond-3
LOCATION:Waag\, Nieuwmarkt 4\, 1012 CR Amsterdam
CATEGORIES:maker education,learning by making,21st century skills
CREATED:20190218T133000Z
LAST-MODIFIED:20231120T111600Z
END:VEVENT
END:VCALENDAR
