BEGIN:VCALENDAR
VERSION:2.0
CALSCALE:GREGORIAN
PRODID:adamgibbons/ics
METHOD:PUBLISH
X-PUBLISHED-TTL:PT1H
BEGIN:VEVENT
UID:bf393970-e390-4479-93db-0ccf421f70a4
SUMMARY:Citizens Panel Amsterdam
DTSTAMP:20260421T012711Z
DTSTART:20190225T183000Z
DTEND:20190225T210000Z
URL:https://waag.org/nl/event/citizens-panel-amsterdam
LOCATION:OBA Oosterdok\, Oosterdokskade 143\, Amsterdam
CATEGORIES:digital social innovation,inclusive citizenship,smart citizens,c
	ommons
CREATED:20190125T153200Z
LAST-MODIFIED:20200225T145800Z
END:VEVENT
END:VCALENDAR
