BEGIN:VCALENDAR
VERSION:2.0
CALSCALE:GREGORIAN
PRODID:adamgibbons/ics
METHOD:PUBLISH
X-PUBLISHED-TTL:PT1H
BEGIN:VEVENT
UID:c0b3e335-9d4f-4d6c-8663-26e08809c59f
SUMMARY:'Grond'rechten? met Socrates Schouten
DTSTAMP:20260421T045744Z
DTSTART:20190326T190000Z
DTEND:20190326T210000Z
URL:https://waag.org/nl/event/grondrechten-met-socrates-schouten
LOCATION:De Balie. Kleine-Gartmanplantsoen 10\, 1017 RR Amsterdam
CATEGORIES:commons,sustainability
CREATED:20190227T123900Z
LAST-MODIFIED:20190227T124900Z
END:VEVENT
END:VCALENDAR
