BEGIN:VCALENDAR
VERSION:2.0
CALSCALE:GREGORIAN
PRODID:adamgibbons/ics
METHOD:PUBLISH
X-PUBLISHED-TTL:PT1H
BEGIN:VEVENT
UID:c129cf33-0f3d-4ed7-9c69-8bed6c50b0fd
SUMMARY:Design for our future self
DTSTAMP:20260420T115950Z
DTSTART:20160927T060000Z
DTEND:20160927T100000Z
URL:https://waag.org/en/event/design-our-future-self
LOCATION:Waag\, Nieuwmarkt 4\, 1012 CR Amsterdam
CATEGORIES:design thinking
CREATED:20180207T110100Z
LAST-MODIFIED:20190406T194300Z
END:VEVENT
END:VCALENDAR
