BEGIN:VCALENDAR
VERSION:2.0
CALSCALE:GREGORIAN
PRODID:adamgibbons/ics
METHOD:PUBLISH
X-PUBLISHED-TTL:PT1H
BEGIN:VEVENT
UID:c2a69c7f-b817-4273-a351-0636f25c7cb6
SUMMARY:Peer Value: Advancing the Commons Collaborative Economy
DTSTAMP:20260421T031208Z
DTSTART:20160901T210000Z
DTEND:20160902T210000Z
URL:https://waag.org/en/event/peer-value-advancing-commons-collaborative-ec
	onomy
LOCATION:City town hall\, Amstel 1\, Amsterdam\, Netherlands
CATEGORIES:digital social innovation,collaborative economy,commons
CREATED:20180207T102700Z
LAST-MODIFIED:20190703T141700Z
END:VEVENT
END:VCALENDAR
