BEGIN:VCALENDAR
VERSION:2.0
CALSCALE:GREGORIAN
PRODID:adamgibbons/ics
METHOD:PUBLISH
X-PUBLISHED-TTL:PT1H
BEGIN:VEVENT
UID:cec68ea2-07c0-4586-90f8-128ede4653da
SUMMARY:Mondkapjes: bescherming of belemmering?
DTSTAMP:20260422T103559Z
DTSTART:20200625T180000Z
DTEND:20200625T193000Z
URL:https://waag.org/nl/event/mondkapjes-bescherming-belemmering
LOCATION:Online
CATEGORIES:makehealth
CREATED:20200606T082400Z
LAST-MODIFIED:20200626T094100Z
END:VEVENT
END:VCALENDAR
