BEGIN:VCALENDAR
VERSION:2.0
CALSCALE:GREGORIAN
PRODID:adamgibbons/ics
METHOD:PUBLISH
X-PUBLISHED-TTL:PT1H
BEGIN:VEVENT
UID:cfa28d92-f753-4381-992b-4a55d532df23
SUMMARY:Design4Health conference
DTSTAMP:20260420T101833Z
DTSTART:20180904T143000Z
DTEND:20180904T160000Z
URL:https://waag.org/en/event/design4health-conference
LOCATION:Sheffield Hallam University\, Sheffield\, UK
CATEGORIES:healthcare,ehealth
CREATED:20180829T122800Z
LAST-MODIFIED:20180829T122800Z
END:VEVENT
END:VCALENDAR
