BEGIN:VCALENDAR
VERSION:2.0
CALSCALE:GREGORIAN
PRODID:adamgibbons/ics
METHOD:PUBLISH
X-PUBLISHED-TTL:PT1H
BEGIN:VEVENT
UID:d04ea374-24fc-48b5-8e86-a349b06ee7bf
SUMMARY:Cryptokids workshop 10 t/m 14 years
DTSTAMP:20260422T142422Z
DTSTART:20161125T143000Z
DTEND:20161125T160000Z
URL:https://waag.org/en/event/cryptokids-workshop-10-tm-14-years
LOCATION:OBA\, Oosterdokskade 143\, 1011 DL Amsterdam
CATEGORIES:digital rights,privacy,workshop
CREATED:20161014T131300Z
LAST-MODIFIED:20161014T131400Z
END:VEVENT
END:VCALENDAR
