BEGIN:VCALENDAR
VERSION:2.0
CALSCALE:GREGORIAN
PRODID:adamgibbons/ics
METHOD:PUBLISH
X-PUBLISHED-TTL:PT1H
BEGIN:VEVENT
UID:d7502546-5ef7-432e-8eac-4b188d25832e
SUMMARY:On the map: exhibition with Jan Rothuizen 
DTSTAMP:20260423T105029Z
DTSTART:20240406T100000Z
DTEND:20240407T150000Z
URL:https://waag.org/en/event/map-exhibition-jan-rothuizen
LOCATION:Waag FuturelabNieuwmarkt 41012CR AmsterdamAccessibility informatio
	n
CATEGORIES:
CREATED:20240314T133700Z
LAST-MODIFIED:20240328T160700Z
END:VEVENT
END:VCALENDAR
