BEGIN:VCALENDAR
VERSION:2.0
CALSCALE:GREGORIAN
PRODID:adamgibbons/ics
METHOD:PUBLISH
X-PUBLISHED-TTL:PT1H
BEGIN:VEVENT
UID:d81b0159-db6f-4512-8bb1-f457ae930565
SUMMARY:Chromatic Relations
DTSTAMP:20260421T101456Z
DTSTART:20250918T100000Z
DTEND:20250928T150000Z
URL:https://waag.org/en/event/chromatic-relations
LOCATION:Waag FuturelabNieuwmarkt 41012CR AmsterdamAccessibility informatio
	n
CATEGORIES:
CREATED:20250618T105800Z
LAST-MODIFIED:20251216T141900Z
END:VEVENT
END:VCALENDAR
