BEGIN:VCALENDAR
VERSION:2.0
CALSCALE:GREGORIAN
PRODID:adamgibbons/ics
METHOD:PUBLISH
X-PUBLISHED-TTL:PT1H
BEGIN:VEVENT
UID:e0ea3e3a-0254-43e3-b679-b1e6f893c151
SUMMARY:Personal Democracy Forum Ukraine
DTSTAMP:20260421T013623Z
DTSTART:20160622T070000Z
DTEND:20160622T070000Z
URL:https://waag.org/en/event/personal-democracy-forum-ukraine
LOCATION:Ukraine\, Kyiv\, 16a Lavrska st
CATEGORIES:edemocracy,smart citizens
CREATED:20180207T132200Z
LAST-MODIFIED:20180311T115900Z
END:VEVENT
END:VCALENDAR
