BEGIN:VCALENDAR
VERSION:2.0
CALSCALE:GREGORIAN
PRODID:adamgibbons/ics
METHOD:PUBLISH
X-PUBLISHED-TTL:PT1H
BEGIN:VEVENT
UID:e446223d-f80d-49ce-b0e5-1634c99bfcf3
SUMMARY:Workshops maakonderwijs
DTSTAMP:20260420T014352Z
DTSTART:20190403T070000Z
DTEND:20190403T153000Z
URL:https://waag.org/nl/event/workshops-maakonderwijs
LOCATION:Meervaart\, Amsterdam
CATEGORIES:21st century skills,maker education,learning by making
CREATED:20190327T123800Z
LAST-MODIFIED:20190510T201800Z
END:VEVENT
END:VCALENDAR
